BEGIN:VCALENDAR
VERSION:2.0
PRODID:-//https://eruuf.org///NONSGML kigkonsult.se iCalcreator 2.10.15//
METHOD:PUBLISH
BEGIN:VEVENT
UID:20260424T025403UTC-4193StuK4m@https://eruuf.org/
DTSTAMP:20260424T025403Z
DESCRIPTION:This week's presentation: 'Becoming' by Ann Verdine Jones. \n'B
 ecoming is an introspective journey that encompasses the process of self-d
 iscovery\, personal growth\, and the pursuit of authenticity. It is a narr
 ative that weaves together past experiences\, personal struggles\, triumph
 s\, and the continuous evolution of my identity.'\nEvery summer a series o
 f beloved ERUUFians present the story of their personal and/or spiritual q
 uests. We have curated the collection below. Early childhood memories\, im
 portant forks in the road\, significant events\, and a few funny anecdotes
  all have been recorded! We invite you to view and listen to these tales o
 f insight and enlightenment.\nPresentations will be in-person only\, from 
 9:00am - 9:50am in the Commons Room of the CARE Building. \nContact the Ad
 ult Programs Team for more information.\nJune 9 - Arco WilliamsJune 16 - D
 avid SokalJune 23 - Ed NormanJune 30 - Spiritual Odyssey on holidayJuly 7 
 - Spiritual Odyssey on holidayJuly 14 - Mel Downey-PiperJuly 28 - Susan Ha
 zlettAugust 4 - Bev WeddaAugust 11 - Ann Verdine-JonesAugust 18 - Addison 
 Evans https://eruuf.org/calendar/calendar-view/event/13984-spiritual-odyss
 ey.html
DTSTART:20240811T130000Z
DTEND:20240811T135000Z
LOCATION:ERUUF Commons Room (4907 Garrett Road)
SUMMARY:Spiritual Odyssey
URL:https://eruuf.org/calendar/calendar-view/event/13984-spiritual-odyssey.
 html
END:VEVENT
END:VCALENDAR
