BEGIN:VCALENDAR
VERSION:2.0
PRODID:-//https://eruuf.org///NONSGML kigkonsult.se iCalcreator 2.10.15//
METHOD:PUBLISH
BEGIN:VEVENT
UID:20260422T112604UTC-7282s35urP@https://eruuf.org/
DTSTAMP:20260422T112604Z
DESCRIPTION:A safe\, supportive\, and non-judgmental space for men to share
  their thoughts and feelings about being men and fathers.  Open to fathers
  of children of all ages.  Contact: Adam Berkowitz - adam.berkowitz.lcsw@g
 mail.com - 919-485-9659 https://eruuf.org/calendar/calendar-view/event/142
 5-father-s-group.html
DTSTART:20150318T000000Z
DTEND:20150318T013000Z
LOCATION:Room 7 - CARE Building ()
SUMMARY:Father's Group
URL:https://eruuf.org/calendar/calendar-view/event/1425-father-s-group.html
END:VEVENT
END:VCALENDAR
