BEGIN:VCALENDAR
VERSION:2.0
PRODID:-//https://eruuf.org///NONSGML kigkonsult.se iCalcreator 2.10.15//
METHOD:PUBLISH
BEGIN:VEVENT
UID:20260424T001738UTC-5767lnFU79@https://eruuf.org/
DTSTAMP:20260424T001738Z
DESCRIPTION:UU Justice NC invites ERUUFians to join Carolina Jews for Justi
 ce at Judea Reform Congregation in Durham for a joint voter registration t
 raining with You Can Vote! This training will be held at Judea Reform and 
 run from 6:30-8 PM on Wednesday\, July 31st. This is an opportunity for us
  to help build a multifaith coalition to protect democracy and support the
  UU the Vote campaign!\nAfter the training\, YCV will offer opportunities 
 for participants to join one of the many voter registration and education 
 drives around Durham. \nSign Up Here\n \nFor more information\, please rea
 ch out to Lonna Harkrader or Kaleb Graves.  https://eruuf.org/calendar/cal
 endar-view/event/14259-interfaith-voter-empowerment-training.html
DTSTART:20240731T223000Z
DTEND:20240801T000000Z
LOCATION:Judea Reform Congregation (1933 W Cornwallis Rd\, Durham\, NC 2770
 5\, USA)
SUMMARY:Interfaith Voter Empowerment Training
URL:https://eruuf.org/calendar/calendar-view/event/14259-interfaith-voter-e
 mpowerment-training.html
END:VEVENT
END:VCALENDAR
