BEGIN:VCALENDAR
VERSION:2.0
PRODID:-//https://eruuf.org///NONSGML kigkonsult.se iCalcreator 2.10.15//
METHOD:PUBLISH
BEGIN:VEVENT
UID:20260420T104710UTC-6075Jnf82D@https://eruuf.org/
DTSTAMP:20260420T104710Z
DESCRIPTION:For more information contact Jessica Sheffield at 919-451-1578O
 r\, email at jessica.sheffield@duke.edu  https://eruuf.org/calendar/calend
 ar-view/event/1428-eruuf-parent-s-group.html
DTSTART:20150418T140000Z
DTEND:20150418T170000Z
LOCATION:Room 4/5   (4907 Garrett Rd\, Durham\, NC 27707   )
SUMMARY:ERUUF Parent's Group
URL:https://eruuf.org/calendar/calendar-view/event/1428-eruuf-parent-s-grou
 p.html
END:VEVENT
END:VCALENDAR
