BEGIN:VCALENDAR
VERSION:2.0
PRODID:-//https://eruuf.org///NONSGML kigkonsult.se iCalcreator 2.10.15//
METHOD:PUBLISH
BEGIN:VEVENT
UID:20260422T170240UTC-0113e0U47Z@https://eruuf.org/
DTSTAMP:20260422T170240Z
DESCRIPTION:For more information contact Kacey Zucchino - kzucchino@eruuf.o
 rg  https://eruuf.org/calendar/calendar-view/event/1437-spiritual-threads.
 html
DTSTART:20150620T140000Z
DTEND:20150620T160000Z
LOCATION:Commons Room   (4907 Garrett Rd\, Durham\, NC 27707  )
SUMMARY:Spiritual Threads
URL:https://eruuf.org/calendar/calendar-view/event/1437-spiritual-threads.h
 tml
END:VEVENT
END:VCALENDAR
