BEGIN:VCALENDAR
VERSION:2.0
PRODID:-//https://eruuf.org///NONSGML kigkonsult.se iCalcreator 2.10.15//
METHOD:PUBLISH
BEGIN:VEVENT
UID:20260420T112610UTC-1145r21vOA@https://eruuf.org/
DTSTAMP:20260420T112610Z
DESCRIPTION:For more information contact Kacey Zucchino - kzucchino@eruuf.o
 rg  https://eruuf.org/calendar/calendar-view/event/1440-spiritual-threads.
 html
DTSTART:20150321T140000Z
DTEND:20150321T160000Z
LOCATION:Commons Room   (4907 Garrett Rd\, Durham\, NC 27707  )
SUMMARY:Spiritual Threads
URL:https://eruuf.org/calendar/calendar-view/event/1440-spiritual-threads.h
 tml
END:VEVENT
END:VCALENDAR
