BEGIN:VCALENDAR
VERSION:2.0
PRODID:-//https://eruuf.org///NONSGML kigkonsult.se iCalcreator 2.10.15//
METHOD:PUBLISH
BEGIN:VEVENT
UID:20260419T123745UTC-5008i0uH14@https://eruuf.org/
DTSTAMP:20260419T123745Z
DESCRIPTION:For more information contact Kacey Zucchino - kzucchino@eruuf.o
 rg  https://eruuf.org/calendar/calendar-view/event/1441-spiritual-threads.
 html
DTSTART:20150221T150000Z
DTEND:20150221T170000Z
LOCATION:Commons Room   (4907 Garrett Rd\, Durham\, NC 27707  )
SUMMARY:Spiritual Threads
URL:https://eruuf.org/calendar/calendar-view/event/1441-spiritual-threads.h
 tml
END:VEVENT
END:VCALENDAR
