BEGIN:VCALENDAR
VERSION:2.0
PRODID:-//https://eruuf.org///NONSGML kigkonsult.se iCalcreator 2.10.15//
METHOD:PUBLISH
BEGIN:VEVENT
UID:20260420T142046UTC-0571BDBd8x@https://eruuf.org/
DTSTAMP:20260420T142046Z
DESCRIPTION:Come join us with your knitting or crocheting project for fun\,
  fellowship and learning about our ministry of giving to the community thr
 ough our hearts and hands. A relaxing time sharing patterns and ideas. Con
 tact Linda Brown\, clickers@eruuf.org https://eruuf.org/calendar/calendar-
 view/event/1446-clicking-for-a-cause.html
DTSTART:20170123T223000Z
DTEND:20170124T000000Z
LOCATION:Commons Room   (4907 Garrett Rd\, Durham\, NC 27707  )
SUMMARY:Clicking for a Cause
URL:https://eruuf.org/calendar/calendar-view/event/1446-clicking-for-a-caus
 e.html
END:VEVENT
END:VCALENDAR
