BEGIN:VCALENDAR
VERSION:2.0
PRODID:-//https://eruuf.org///NONSGML kigkonsult.se iCalcreator 2.10.15//
METHOD:PUBLISH
BEGIN:VEVENT
UID:20260422T101029UTC-2351Jx3tcP@https://eruuf.org/
DTSTAMP:20260422T101029Z
DESCRIPTION:ERUUF's Pride+ LGBTQ+ Action Team invites all friends and allie
 s to join us for an informal Zoom Chat and learn about upcoming Pride+ act
 ivities at ERUUF.\nSend an email to the Pride+ Action Team to be added to 
 the email list for the Zoom link.  https://eruuf.org/calendar/calendar-vie
 w/event/14572-pride-zoom-chat.html
DTSTART:20240901T190000Z
DTEND:20240901T200000Z
LOCATION:Online  (Online meetings are organized by the group leader. See th
 e meeting event details for information on how to join.)
SUMMARY:Pride+ Zoom Chat
URL:https://eruuf.org/calendar/calendar-view/event/14572-pride-zoom-chat.ht
 ml
END:VEVENT
END:VCALENDAR
