BEGIN:VCALENDAR
VERSION:2.0
PRODID:-//https://eruuf.org///NONSGML kigkonsult.se iCalcreator 2.10.15//
METHOD:PUBLISH
BEGIN:VEVENT
UID:20260420T204304UTC-3889b4sfKz@https://eruuf.org/
DTSTAMP:20260420T204304Z
DESCRIPTION:ERUUF's Pride+ LGBTQ+ Action Team invites all friends and allie
 s to join us for an informal Zoom Chat. \nSend an email to the Pride+ Acti
 on Team to be added to the email list for the Zoom link.  https://eruuf.or
 g/calendar/calendar-view/event/14573-pride-zoom-chat.html
DTSTART:20241006T190000Z
DTEND:20241006T200000Z
LOCATION:Online  (Online meetings are organized by the group leader. See th
 e meeting event details for information on how to join.)
SUMMARY:Pride+ Zoom Chat
URL:https://eruuf.org/calendar/calendar-view/event/14573-pride-zoom-chat.ht
 ml
END:VEVENT
END:VCALENDAR
