BEGIN:VCALENDAR
VERSION:2.0
PRODID:-//https://eruuf.org///NONSGML kigkonsult.se iCalcreator 2.10.15//
METHOD:PUBLISH
BEGIN:VEVENT
UID:20260421T040350UTC-4426pjVlur@https://eruuf.org/
DTSTAMP:20260421T040350Z
DESCRIPTION:\nERUUF's Pride+ LGBTQ+ Action Team invites all friends and all
 ies to join us for an informal Zoom Chat. \n \nSend an email to the Pride+
  Action Team to be added to the email list for the Zoom link.  https://eru
 uf.org/calendar/calendar-view/event/14574-pride-zoom-chat.html
DTSTART:20241103T200000Z
DTEND:20241103T210000Z
LOCATION:Online  (Online meetings are organized by the group leader. See th
 e meeting event details for information on how to join.)
SUMMARY:Pride+ Zoom Chat
URL:https://eruuf.org/calendar/calendar-view/event/14574-pride-zoom-chat.ht
 ml
END:VEVENT
END:VCALENDAR
