BEGIN:VCALENDAR
VERSION:2.0
PRODID:-//https://eruuf.org///NONSGML kigkonsult.se iCalcreator 2.10.15//
METHOD:PUBLISH
BEGIN:VEVENT
UID:20260422T112750UTC-0949RrhVPS@https://eruuf.org/
DTSTAMP:20260422T112750Z
DESCRIPTION:Gwen Kelly from the UU Fellowship of Raleigh\, representing the
  Duke Stand Up for Trans Women campaign\, is joining us to share informati
 on about a campaign to address anti-trans messaging from a local universit
 y.\nERUUF's Pride+ LGBTQ+ Action Team invites all friends and allies to jo
 in us for an informal Zoom Chat. \nSend an email to the Pride+ Action Team
  to be added to the email list for the Zoom link.  https://eruuf.org/calen
 dar/calendar-view/event/14579-pride-zoom-chat.html
DTSTART:20250406T190000Z
DTEND:20250406T200000Z
LOCATION:Online  (Online meetings are organized by the group leader. See th
 e meeting event details for information on how to join.)
SUMMARY:Pride+ Zoom Chat
URL:https://eruuf.org/calendar/calendar-view/event/14579-pride-zoom-chat.ht
 ml
END:VEVENT
END:VCALENDAR
