BEGIN:VCALENDAR
VERSION:2.0
PRODID:-//https://eruuf.org///NONSGML kigkonsult.se iCalcreator 2.10.15//
METHOD:PUBLISH
BEGIN:VEVENT
UID:20260424T012115UTC-3473elZbJe@https://eruuf.org/
DTSTAMP:20260424T012115Z
DESCRIPTION:Weeding Extravaganza: The pollinator garden nees our help!\nVol
 unteers are always welcome to help keep ERUUF's gardens beautiful and neat
 . Garden Saturdays occur every 2nd Saturday of the month.  Check enews for
  times as they vary with the seasons.For more information\, reach out to B
 arbara Beaman.  https://eruuf.org/calendar/calendar-view/event/14638-garde
 ning-saturday.html
DTSTART:20240914T130000Z
DTEND:20240914T160000Z
LOCATION:ERUUF Campus   (4907 Garrett Rd\, Durham\, NC 27707    )
SUMMARY:Gardening Saturday
URL:https://eruuf.org/calendar/calendar-view/event/14638-gardening-saturday
 .html
END:VEVENT
END:VCALENDAR
