BEGIN:VCALENDAR
VERSION:2.0
PRODID:-//https://eruuf.org///NONSGML kigkonsult.se iCalcreator 2.10.15//
METHOD:PUBLISH
BEGIN:VEVENT
UID:20260424T125758UTC-78227WB5tf@https://eruuf.org/
DTSTAMP:20260424T125758Z
DESCRIPTION:Pollinator Garden Weeding Extravaganza #2!\nMeet at boardwalk i
 n back parking lot. Learn more about the Pollinator Garden here. \nVolunte
 ers are always welcome to help keep ERUUF's gardens beautiful and neat. Ga
 rden Saturdays occur every 2nd Saturday of the month.  Check enews for tim
 es as they vary with the seasons.For more information\, reach out to Barba
 ra Beaman.  https://eruuf.org/calendar/calendar-view/event/14639-gardening
 -saturday.html
DTSTART:20241012T130000Z
DTEND:20241012T160000Z
LOCATION:ERUUF Campus   (4907 Garrett Rd\, Durham\, NC 27707    )
SUMMARY:Gardening Saturday
URL:https://eruuf.org/calendar/calendar-view/event/14639-gardening-saturday
 .html
END:VEVENT
END:VCALENDAR
