BEGIN:VCALENDAR
VERSION:2.0
PRODID:-//https://eruuf.org///NONSGML kigkonsult.se iCalcreator 2.10.15//
METHOD:PUBLISH
BEGIN:VEVENT
UID:20260423T064753UTC-09558oabnB@https://eruuf.org/
DTSTAMP:20260423T064753Z
DESCRIPTION:Woody Plant Round-up\nClipping\, lopping and sawing we’ll be re
 moving unwanted woody plants in the garden.\nVolunteers are always welcome
  to help keep ERUUF's gardens beautiful and neat. Garden Saturdays occur e
 very 2nd Saturday of the month.  Check enews for times as they vary with t
 he seasons.For more information\, reach out to Barbara Beaman.  https://er
 uuf.org/calendar/calendar-view/event/14640-gardening-saturday.html
DTSTART:20241109T140000Z
DTEND:20241109T170000Z
LOCATION:ERUUF Campus   (4907 Garrett Rd\, Durham\, NC 27707    )
SUMMARY:Gardening Saturday
URL:https://eruuf.org/calendar/calendar-view/event/14640-gardening-saturday
 .html
END:VEVENT
END:VCALENDAR
