BEGIN:VCALENDAR
VERSION:2.0
PRODID:-//https://eruuf.org///NONSGML kigkonsult.se iCalcreator 2.10.15//
METHOD:PUBLISH
BEGIN:VEVENT
UID:20260423T102027UTC-9957cMlCJM@https://eruuf.org/
DTSTAMP:20260423T102027Z
DESCRIPTION:Volunteers are always welcome to help keep ERUUF's gardens beau
 tiful and neat. Garden Saturdays occur every 2nd Saturday of the month.  C
 heck enews for times as they vary with the seasons.For more information\, 
 reach out to Barbara Beaman.  https://eruuf.org/calendar/calendar-view/eve
 nt/14641-gardening-saturday.html
DTSTART:20241214T140000Z
DTEND:20241214T170000Z
LOCATION:ERUUF Campus   (4907 Garrett Rd\, Durham\, NC 27707    )
SUMMARY:Gardening Saturday
URL:https://eruuf.org/calendar/calendar-view/event/14641-gardening-saturday
 .html
END:VEVENT
END:VCALENDAR
