BEGIN:VCALENDAR
VERSION:2.0
PRODID:-//https://eruuf.org///NONSGML kigkonsult.se iCalcreator 2.10.15//
METHOD:PUBLISH
BEGIN:VEVENT
UID:20260422T200510UTC-1141d98UPF@https://eruuf.org/
DTSTAMP:20260422T200510Z
DESCRIPTION:Volunteers are always welcome to help keep ERUUF's gardens beau
 tiful and neat. Garden Saturdays occur every 2nd Saturday of the month.  C
 heck enews for times as they vary with the seasons.For more information\, 
 reach out to Barbara Beaman.  https://eruuf.org/calendar/calendar-view/eve
 nt/14646-gardening-saturday.html
DTSTART:20250510T130000Z
DTEND:20250510T160000Z
LOCATION:ERUUF Campus   (4907 Garrett Rd\, Durham\, NC 27707    )
SUMMARY:Gardening Saturday
URL:https://eruuf.org/calendar/calendar-view/event/14646-gardening-saturday
 .html
END:VEVENT
END:VCALENDAR
