BEGIN:VCALENDAR
VERSION:2.0
PRODID:-//https://eruuf.org///NONSGML kigkonsult.se iCalcreator 2.10.15//
METHOD:PUBLISH
BEGIN:VEVENT
UID:20260423T064846UTC-3577pOprZU@https://eruuf.org/
DTSTAMP:20260423T064846Z
DESCRIPTION:The June 14 Gardening Saturday has been postponed to Saturday\,
  June 28\, to accommodate those attending No Kings Marches.\nVolunteers ar
 e always welcome to help keep ERUUF's gardens beautiful and neat. Garden S
 aturdays occur every 2nd Saturday of the month.  Check enews for times as 
 they vary with the seasons.For more information\, reach out to Barbara Bea
 man.  https://eruuf.org/calendar/calendar-view/event/14647-gardening-satur
 day.html
DTSTART:20250628T123000Z
DTEND:20250628T140000Z
LOCATION:ERUUF Campus   (4907 Garrett Rd\, Durham\, NC 27707    )
SUMMARY:Gardening Saturday
URL:https://eruuf.org/calendar/calendar-view/event/14647-gardening-saturday
 .html
END:VEVENT
END:VCALENDAR
