BEGIN:VCALENDAR
VERSION:2.0
PRODID:-//https://eruuf.org///NONSGML kigkonsult.se iCalcreator 2.10.15//
METHOD:PUBLISH
BEGIN:VEVENT
UID:20260425T150255UTC-5422vR3vfp@https://eruuf.org/
DTSTAMP:20260425T150255Z
DESCRIPTION:Volunteers are always welcome to help keep ERUUF's gardens beau
 tiful and neat. Garden Saturdays occur every 2nd Saturday of the month.  C
 heck enews for times as they vary with the seasons.For more information\, 
 reach out to Barbara Beaman. \n---------------------------\nAfter five inc
 hes of rain last Sunday\, we have erosion damage to fix the pollinator gar
 den. We’ll be creating a few catch basins for run off and as well as weedi
 ng and pruning. Meet at the breezeway at 8:30 am. https://eruuf.org/calend
 ar/calendar-view/event/14648-gardening-saturday.html
DTSTART:20250712T123000Z
DTEND:20250712T140000Z
LOCATION:ERUUF Campus   (4907 Garrett Rd\, Durham\, NC 27707    )
SUMMARY:Gardening Saturday
URL:https://eruuf.org/calendar/calendar-view/event/14648-gardening-saturday
 .html
END:VEVENT
END:VCALENDAR
