BEGIN:VCALENDAR
VERSION:2.0
PRODID:-//https://eruuf.org///NONSGML kigkonsult.se iCalcreator 2.10.15//
METHOD:PUBLISH
BEGIN:VEVENT
UID:20260423T155516UTC-4984e9gRmv@https://eruuf.org/
DTSTAMP:20260423T155516Z
DESCRIPTION:Volunteers are always welcome to help keep ERUUF's gardens beau
 tiful and neat. Garden Saturdays occur every 2nd Saturday of the month.  C
 heck enews for times as they vary with the seasons.\nThis Saturday\, we’ll
  be taking on aggressive natives and invasive nonnative species in the gar
 den. Useful tools if you have them include small chainsaws\, pruning saws 
 and loppers. Note: tools not required. Meet at the breezeway at 9:00 am.\n
 For more information\, reach out to Barbara Beaman.  https://eruuf.org/cal
 endar/calendar-view/event/14649-gardening-saturday.html
DTSTART:20250809T130000Z
DTEND:20250809T160000Z
LOCATION:ERUUF Campus   (4907 Garrett Rd\, Durham\, NC 27707    )
SUMMARY:Gardening Saturday
URL:https://eruuf.org/calendar/calendar-view/event/14649-gardening-saturday
 .html
END:VEVENT
END:VCALENDAR
