BEGIN:VCALENDAR
VERSION:2.0
PRODID:-//https://eruuf.org///NONSGML kigkonsult.se iCalcreator 2.10.15//
METHOD:PUBLISH
BEGIN:VEVENT
UID:20260424T024942UTC-6377WGzUUG@https://eruuf.org/
DTSTAMP:20260424T024942Z
DESCRIPTION:Volunteers are always welcome to help keep ERUUF's gardens beau
 tiful and neat. Garden Saturdays occur every 2nd Saturday of the month.  C
 heck enews for times as they vary with the seasons.\nThis month\, we’ll be
  taking on nonnative invasive species in the pollinator garden. Enjoy the 
 gorgeous cardinal flowers while you’re at it. We’ll have a few obedient pl
 ants to give away. We will meet at the breezeway at 9:00 am.For more infor
 mation\, reach out to the Garden Team.  https://eruuf.org/calendar/calenda
 r-view/event/14650-gardening-saturday.html
DTSTART:20250913T130000Z
DTEND:20250913T150000Z
LOCATION:ERUUF Campus   (4907 Garrett Rd\, Durham\, NC 27707    )
SUMMARY:Gardening Saturday
URL:https://eruuf.org/calendar/calendar-view/event/14650-gardening-saturday
 .html
END:VEVENT
END:VCALENDAR
