BEGIN:VCALENDAR
VERSION:2.0
PRODID:-//https://eruuf.org///NONSGML kigkonsult.se iCalcreator 2.10.15//
METHOD:PUBLISH
BEGIN:VEVENT
UID:20260423T101957UTC-7008evje8k@https://eruuf.org/
DTSTAMP:20260423T101957Z
DESCRIPTION:We’ll be transplanting sedges and goldenrod in the pollinator g
 arden and spreading pine needle mulch. Meet at the breezeway at 10:00 am t
 o pick-up tools before moving to gather excess pine needles from the campu
 s to use in the pollinator garden.\n\nVolunteers are always welcome to hel
 p keep ERUUF's gardens beautiful and neat. Garden Saturdays occur every 2n
 d Saturday of the month.  Check enews for times as they vary with the seas
 ons.\nMark your calendars second Saturday gardening has been rescheduled t
 o Saturday\, October 25\, due to Choir Fest.\nFor more information\, reach
  out to The Garden Team.  https://eruuf.org/calendar/calendar-view/event/1
 4651-gardening-saturday.html
DTSTART:20251025T140000Z
DTEND:20251025T160000Z
LOCATION:ERUUF Campus   (4907 Garrett Rd\, Durham\, NC 27707    )
SUMMARY:Gardening Saturday
URL:https://eruuf.org/calendar/calendar-view/event/14651-gardening-saturday
 .html
END:VEVENT
END:VCALENDAR
