BEGIN:VCALENDAR
VERSION:2.0
PRODID:-//https://eruuf.org///NONSGML kigkonsult.se iCalcreator 2.10.15//
METHOD:PUBLISH
BEGIN:VEVENT
UID:20260422T070925UTC-4018MKfjKN@https://eruuf.org/
DTSTAMP:20260422T070925Z
DESCRIPTION:Join us Saturday\, November 1\, from 10 am to noon. We’ll be tr
 ansplanting sedges and goldenrod in the pollinator garden and spreading pi
 ne needle mulch. Meet at the breezeway at 10:00 am to pick-up tools. My ap
 ologies for changing weekends. There are two great workshops on race and i
 mmigration on the second and third Saturdays respectively that folk might 
 want to attend.\nFor more information\, reach out to the Garden Team.  htt
 ps://eruuf.org/calendar/calendar-view/event/14652-gardening-saturday.html
DTSTART:20251101T140000Z
DTEND:20251101T160000Z
LOCATION:ERUUF Campus   (4907 Garrett Rd\, Durham\, NC 27707    )
SUMMARY:Gardening Saturday
URL:https://eruuf.org/calendar/calendar-view/event/14652-gardening-saturday
 .html
END:VEVENT
END:VCALENDAR
