BEGIN:VCALENDAR
VERSION:2.0
PRODID:-//https://eruuf.org///NONSGML kigkonsult.se iCalcreator 2.10.15//
METHOD:PUBLISH
BEGIN:VEVENT
UID:20260424T024912UTC-0992Jf9zuM@https://eruuf.org/
DTSTAMP:20260424T024912Z
DESCRIPTION:Join us Saturday\, January 10\, from 10 am to noon for our annu
 al rake-a-thon. We will be removing leaves accumulated in our grasses and 
 shrubs so that our contractors can prune back plants in February. Bring yo
 ur favorite rake or leaf blower if you have one. Meet at the breezeway at 
 10:00 am to pick-up tools. For more information\, reach out to the Garden 
 Team.  https://eruuf.org/calendar/calendar-view/event/14654-gardening-satu
 rday.html
DTSTART:20260110T150000Z
DTEND:20260110T170000Z
LOCATION:ERUUF Campus   (4907 Garrett Rd\, Durham\, NC 27707    )
SUMMARY:Gardening Saturday: Annual Rake-a-Thon
URL:https://eruuf.org/calendar/calendar-view/event/14654-gardening-saturday
 .html
END:VEVENT
END:VCALENDAR
