BEGIN:VCALENDAR
VERSION:2.0
PRODID:-//https://eruuf.org///NONSGML kigkonsult.se iCalcreator 2.10.15//
METHOD:PUBLISH
BEGIN:VEVENT
UID:20260423T111924UTC-8594dsOGAd@https://eruuf.org/
DTSTAMP:20260423T111924Z
DESCRIPTION:On Saturday\, March 14\, from 10am to noon we will be continuin
 g our spring garden clean-up including weeding\, mulching and pruning. Mee
 t at the breezeway at 10:00 am to pick-up tools. We welcome Chalice Circle
 s and Covenant groups looking to complete service projects. Please contact
  me to arrange a date and time.\nFor more information\, email the Garden T
 eam. https://eruuf.org/calendar/calendar-view/event/14656-gardening-saturd
 ay.html
DTSTART:20260314T140000Z
DTEND:20260314T160000Z
LOCATION:ERUUF Campus   (4907 Garrett Rd\, Durham\, NC 27707    )
SUMMARY:Gardening Saturday: Spring Garden Clean-up
URL:https://eruuf.org/calendar/calendar-view/event/14656-gardening-saturday
 .html
END:VEVENT
END:VCALENDAR
