BEGIN:VCALENDAR
VERSION:2.0
PRODID:-//https://eruuf.org///NONSGML kigkonsult.se iCalcreator 2.10.15//
METHOD:PUBLISH
BEGIN:VEVENT
UID:20260424T141716UTC-5864sP1Xt7@https://eruuf.org/
DTSTAMP:20260424T141716Z
DESCRIPTION:Voting Poll Workers ensure our elections are free and fair.\nLe
 arn how to make your mark on the 2024 elections from experienced Voting Po
 ll Worker\, Beth Harvat. Look for the UU the Vote banner. \nFor more infor
 mation\, reach out to UU Justice NC. https://eruuf.org/calendar/calendar-v
 iew/event/14659-learn-to-be-a-voting-poll-worker.html
DTSTART:20240825T150000Z
DTEND:20240825T160000Z
LOCATION:ERUUF Fellowship Hall (4907 Garrett Road)
SUMMARY:Learn to be a Voting Poll Worker
URL:https://eruuf.org/calendar/calendar-view/event/14659-learn-to-be-a-voti
 ng-poll-worker.html
END:VEVENT
END:VCALENDAR
