BEGIN:VCALENDAR
VERSION:2.0
PRODID:-//https://eruuf.org///NONSGML kigkonsult.se iCalcreator 2.10.15//
METHOD:PUBLISH
BEGIN:VEVENT
UID:20260421T175527UTC-0579BxN4Cs@https://eruuf.org/
DTSTAMP:20260421T175527Z
DESCRIPTION:Provide a Meal/Serve a Meal: Help prepare dinner for residents 
 on Wednesday\, Sept. 4 at 5:00 pm\; N. Queen Street\nWe need a vegetable p
 latter and dip for 15. Watermelon/cantaloupe slices for 15.\nStay and help
  serve if you’d like\, or drop it off.\nInterested? Contact Jane Hewitt.\n
 Donate Needed Household Supplies: Residents need household supplies for th
 eir transitional quarters: All-purpose cleaners\, bathroom cleaners\, hand
  soap. Bring these to ERUUF by Sunday\, Sept 1\; deposit in the bins marke
 d Families Moving Forward in the corner of the office. https://eruuf.org/c
 alendar/calendar-view/event/14663-families-moving-forward-volunteer-opport
 unity.html
DTSTART:20240904T210000Z
DTEND:20240904T230000Z
LOCATION:Families Moving Forward (N Queen St\, Durham\, NC 27701\, USA)
SUMMARY:Families Moving Forward Volunteer Opportunity
URL:https://eruuf.org/calendar/calendar-view/event/14663-families-moving-fo
 rward-volunteer-opportunity.html
END:VEVENT
END:VCALENDAR
