BEGIN:VCALENDAR
VERSION:2.0
PRODID:-//https://eruuf.org///NONSGML kigkonsult.se iCalcreator 2.10.15//
METHOD:PUBLISH
BEGIN:VEVENT
UID:20260423T083912UTC-6777SugkkE@https://eruuf.org/
DTSTAMP:20260423T083912Z
DESCRIPTION:Please see the document below for this meeting's schedule. Meet
 ing is held over Zoom (link below).\nMeeting ID: 587 833 0298Passcode: 273
 2\nJoin Meeting\n  https://eruuf.org/calendar/calendar-view/event/14683-bo
 ard-of-trustees-monthly-meeting.html
DTSTART:20250318T230000Z
DTEND:20250319T010000Z
LOCATION:Online  (Online meetings are organized by the group leader. See th
 e meeting event details for information on how to join.)
SUMMARY:Board of Trustees Monthly Meeting
URL:https://eruuf.org/calendar/calendar-view/event/14683-board-of-trustees-
 monthly-meeting.html
END:VEVENT
END:VCALENDAR
