BEGIN:VCALENDAR
VERSION:2.0
PRODID:-//https://eruuf.org///NONSGML kigkonsult.se iCalcreator 2.10.15//
METHOD:PUBLISH
BEGIN:VEVENT
UID:20260420T040743UTC-7059u2VPEr@https://eruuf.org/
DTSTAMP:20260420T040743Z
DESCRIPTION:UU Christians look to the teachings of Jesus (not about Jesus) 
 as a source of wisdom and guidance in building the Beloved Community. The 
 group shares prayer\, reflections on Bible passages\, and thoughts on cont
 emporary writings of liberal Christians. Come join us! https://eruuf.org/c
 alendar/calendar-view/event/1471-eruuf-christian-fellowship.html
DTSTART:20160426T230000Z
DTEND:20160427T003000Z
LOCATION:Room 3 - CARE Building ()
SUMMARY:ERUUF Christian Fellowship
URL:https://eruuf.org/calendar/calendar-view/event/1471-eruuf-christian-fel
 lowship.html
END:VEVENT
END:VCALENDAR
