BEGIN:VCALENDAR
VERSION:2.0
PRODID:-//https://eruuf.org///NONSGML kigkonsult.se iCalcreator 2.10.15//
METHOD:PUBLISH
BEGIN:VEVENT
UID:20260421T031957UTC-21636tSnOA@https://eruuf.org/
DTSTAMP:20260421T031957Z
DESCRIPTION:In preparation to having more visitors to campus for early voti
 ng\, beloved ERUUFian\, Galen Jackson\, will be working on making the bric
 ks in the courtyard more even. He would love to have your help!\nIt’s easy
  work - you do have to sit on the concrete and pick up bricks\, however\, 
 this work is suitable for almost anyone. It involves pulling up bricks\, a
 dding sand and putting the brick back even with the concrete next to it. T
 he tools he will use include a kneeling pad\, work gloves\, a small crowba
 r\, a bucket of sand\, a trowel\, a rubber mallet and a ruler. Galen will 
 supply the sand and some spare tools\, but if you have any of these tools 
 to bring\, that would be helpful. Hope to see you out there!\nFor more inf
 ormation and to coordinate with Galen\, please reach out to him via email.
  https://eruuf.org/calendar/calendar-view/event/14739-courtyard-brick-main
 tenance.html
DTSTART:20241011T223000Z
DTEND:20241012T000000Z
LOCATION:ERUUF Campus   (4907 Garrett Rd\, Durham\, NC 27707    )
SUMMARY:Courtyard Brick Maintenance
URL:https://eruuf.org/calendar/calendar-view/event/14739-courtyard-brick-ma
 intenance.html
END:VEVENT
END:VCALENDAR
