BEGIN:VCALENDAR
VERSION:2.0
PRODID:-//https://eruuf.org///NONSGML kigkonsult.se iCalcreator 2.10.15//
METHOD:PUBLISH
BEGIN:VEVENT
UID:20260420T233106UTC-1640dWcJU5@https://eruuf.org/
DTSTAMP:20260420T233106Z
DESCRIPTION:Blessings for Pride. Worship Leader\, Rev. Jacqueline Brett. Th
 is Sunday we will offer blessings for Durham Pride\, and then gather at Du
 ke's East Campus for the 11:00 am parade organized by LGBTQ Center of Durh
 am.\nMasks are optional for in-person attendance by congregants.Worship le
 aders\, including cantors\, do not have to wear a mask while leading servi
 ces.\nFor more information about service each week\, subscribe to our week
 ly E-News.  https://eruuf.org/calendar/calendar-view/event/14741-9am-pride
 -service.html
DTSTART:20240929T130000Z
DTEND:20240929T133000Z
LOCATION:Sanctuary - ERUUF   (4907 Garrett Road\, Durham\, NC 27707  )
SUMMARY:9AM Pride Service
URL:https://eruuf.org/calendar/calendar-view/event/14741-9am-pride-service.
 html
END:VEVENT
END:VCALENDAR
