BEGIN:VCALENDAR
VERSION:2.0
PRODID:-//https://eruuf.org///NONSGML kigkonsult.se iCalcreator 2.10.15//
METHOD:PUBLISH
BEGIN:VEVENT
UID:20260419T184936UTC-4970168Vug@https://eruuf.org/
DTSTAMP:20260419T184936Z
DESCRIPTION:ERBC is a Buddhist practice group that meets to meditate\, to d
 eepen our understanding of the Buddha's teachings\, and to support one ano
 ther in cultivating the path of practice. Newcomers and visitors are alway
 s welcome. Contact: Steve Seiberling. https://eruuf.org/calendar/calendar-
 view/event/1478-eno-river-buddhist-community.html
DTSTART:20161129T003000Z
DTEND:20161129T023000Z
LOCATION:Room 4/5   (4907 Garrett Rd\, Durham\, NC 27707   )
SUMMARY:Eno River Buddhist Community
URL:https://eruuf.org/calendar/calendar-view/event/1478-eno-river-buddhist-
 community.html
END:VEVENT
END:VCALENDAR
