BEGIN:VCALENDAR
VERSION:2.0
PRODID:-//https://eruuf.org///NONSGML kigkonsult.se iCalcreator 2.10.15//
METHOD:PUBLISH
BEGIN:VEVENT
UID:20260420T233959UTC-5097FO93gz@https://eruuf.org/
DTSTAMP:20260420T233959Z
DESCRIPTION:Rev. Jim\, along with other local clergy\, will have a Vespers 
 service celebrating Durham Pride. https://eruuf.org/calendar/calendar-view
 /event/14888-multi-faith-pride-service.html
DTSTART:20240926T230000Z
DTEND:20240927T000000Z
LOCATION:Sanctuary - ERUUF   (4907 Garrett Road\, Durham\, NC 27707  )
SUMMARY:Multifaith Pride Vespers 
URL:https://eruuf.org/calendar/calendar-view/event/14888-multi-faith-pride-
 service.html
END:VEVENT
END:VCALENDAR
