BEGIN:VCALENDAR
VERSION:2.0
PRODID:-//https://eruuf.org///NONSGML kigkonsult.se iCalcreator 2.10.15//
METHOD:PUBLISH
BEGIN:VEVENT
UID:20260420T173246UTC-6557zidjDX@https://eruuf.org/
DTSTAMP:20260420T173246Z
DESCRIPTION:Join Pride+ and the Multicultural Team in a series of discussio
 ns about the UUA Common Read for this year\, Authentic Selves: Celebrating
  Trans and Nonbinary People and Their Families. exploring life stories and
  portraits from gender-diverse people and their families\, then participat
 e in Zoom discussion sessions with other ERUUFians.\nCome away with a bett
 er understanding of beautiful and varied lives filled with pride and coura
 ge. Everyone interested in learning more about gender nonconformity and wi
 dening the circle of inclusivity is welcome to participate. \nRSVP Here\n 
 \nSend an email to the Pride+ Action Team or to the Multicultural Team for
  more information.  https://eruuf.org/calendar/calendar-view/event/14957-a
 uthentic-selves-book-discussion-sessions.html
DTSTART:20250402T230000Z
DTEND:20250403T003000Z
LOCATION:Online  (Online meetings are organized by the group leader. See th
 e meeting event details for information on how to join.)
SUMMARY:Authentic Selves Book Discussion Sessions
URL:https://eruuf.org/calendar/calendar-view/event/14957-authentic-selves-b
 ook-discussion-sessions.html
END:VEVENT
END:VCALENDAR
