BEGIN:VCALENDAR
VERSION:2.0
PRODID:-//https://eruuf.org///NONSGML kigkonsult.se iCalcreator 2.10.15//
METHOD:PUBLISH
BEGIN:VEVENT
UID:20260423T095734UTC-9021055G0p@https://eruuf.org/
DTSTAMP:20260423T095734Z
DESCRIPTION:If you’ve been visiting ERUUF for at least 4 weeks (12 weeks if
  you’re new to Unitarian Universalism)\, and are now interested in becomin
 g a member\, this is the class for you. Over the course of three weeks you
 'll learn more about ERUUF\, the difference membership makes\, and partici
 pate in a book signing ceremony in the last class. You must attend all thr
 ee classes in the series to sign the book. Childcare provided if requested
  by Thursday\, December 28. Minimum enrollment: five (5) participants -- s
 o sign-up early!  Register at: http://tinyurl.com/J2M-Jan2018-Wed.  Questi
 ons? Contact: Rev. Jacqueline Brett: jbrett@eruuf.org https://eruuf.org/ca
 lendar/calendar-view/event/150-cancelled-journey-to-membership-class.html
DTSTART:20180104T000000Z
DTEND:20180104T011500Z
LOCATION:Room 4/5   (4907 Garrett Rd\, Durham\, NC 27707   )
SUMMARY:CANCELLED-Journey to Membership class
URL:https://eruuf.org/calendar/calendar-view/event/150-cancelled-journey-to
 -membership-class.html
END:VEVENT
END:VCALENDAR
