BEGIN:VCALENDAR
VERSION:2.0
PRODID:-//https://eruuf.org///NONSGML kigkonsult.se iCalcreator 2.10.15//
METHOD:PUBLISH
BEGIN:VEVENT
UID:20260423T120552UTC-3788vr1wPR@https://eruuf.org/
DTSTAMP:20260423T120552Z
DESCRIPTION:Which of these low-tech games might you enjoy? Monopoly\, check
 ers\, chess\, Scrabble\, Clue\, Trivial Pursuit\, Balderdash\, cards etc. 
 All are welcome (LGBTQ+ and allies).\nBring your own games\, drinks (no al
 cohol please) and snacks.\nFor more information\, reach out to the Pride+ 
 Team.  https://eruuf.org/calendar/calendar-view/event/15023-pride-board-ga
 me-night.html
DTSTART:20241214T000000Z
DTEND:20241214T020000Z
LOCATION:ERUUF Commons Room (4907 Garrett Road)
SUMMARY:Pride+ Board Game Night
URL:https://eruuf.org/calendar/calendar-view/event/15023-pride-board-game-n
 ight.html
END:VEVENT
END:VCALENDAR
