BEGIN:VCALENDAR
VERSION:2.0
PRODID:-//https://eruuf.org///NONSGML kigkonsult.se iCalcreator 2.10.15//
METHOD:PUBLISH
BEGIN:VEVENT
UID:20260421T054804UTC-00133S7IW4@https://eruuf.org/
DTSTAMP:20260421T054804Z
DESCRIPTION:ERUUF will be serving a meal for 18 at Families Moving Forward.
  \nHelp give to those in need by bringing a serving tray and fruit to Fami
 lies Moving Forward. Stay and serve food if you would like! \nPlease also 
 consider donating household supplies\, such as paper towels\, plastic glov
 es\, and shower curtains. Items can be brought to the ERUUF Main Office to
  be placed in the Families Moving Forward collection bins. Bring donations
  to ERUUF by Sunday\, December 8.\nFor more information\, visit the Famili
 es Moving Forward website and reach out to coordinator Jane Hewitt. \nThan
 k you!\n  https://eruuf.org/calendar/calendar-view/event/15036-families-mo
 ving-forward-meal-and-supplies-request.html
DTSTART:20241210T214500Z
DTEND:20241210T230000Z
LOCATION:Families Moving Forward (N Queen St\, Durham\, NC 27701\, USA)
SUMMARY:Families Moving Forward Meal and Supplies Request
URL:https://eruuf.org/calendar/calendar-view/event/15036-families-moving-fo
 rward-meal-and-supplies-request.html
END:VEVENT
END:VCALENDAR
