BEGIN:VCALENDAR
VERSION:2.0
PRODID:-//https://eruuf.org///NONSGML kigkonsult.se iCalcreator 2.10.15//
METHOD:PUBLISH
BEGIN:VEVENT
UID:20260421T130245UTC-3293Wam1Mx@https://eruuf.org/
DTSTAMP:20260421T130245Z
DESCRIPTION:This event has been canceled due to expected inclimate weather.
 \nFor more information\, reach out to the Pride+ Team. https://eruuf.org/c
 alendar/calendar-view/event/15039-pride-board-game-night.html
DTSTART:20250111T000000Z
DTEND:20250111T020000Z
LOCATION:ERUUF Commons Room (4907 Garrett Road)
SUMMARY:CANCELED - Pride+ Board Game Night
URL:https://eruuf.org/calendar/calendar-view/event/15039-pride-board-game-n
 ight.html
END:VEVENT
END:VCALENDAR
