BEGIN:VCALENDAR
VERSION:2.0
PRODID:-//https://eruuf.org///NONSGML kigkonsult.se iCalcreator 2.10.15//
METHOD:PUBLISH
BEGIN:VEVENT
UID:20260422T055657UTC-0351nIvBO3@https://eruuf.org/
DTSTAMP:20260422T055657Z
DESCRIPTION: \nHelp is needed to assist our professionally contracted garde
 n service\, which is coming to ERUUF for their semi-annual cleanup on Marc
 h 4. If you are interested in knowing about our ERUUF gardens\, in making 
 ERUUF look beautiful or just in being part of our garden community\, pleas
 e consider joining us on March 4.\nWe'll be mulching\, raking leaves and p
 icking up sticks. No experience necessary\, but come with water to drink a
 nd gloves (ERUUF has some too) to help out. The more help we have\, the mo
 re we can accomplish. We willl start at 9 am and be working all day\, so a
 ny of that time you can make it is good!\nContact Beth Harvat for question
 s and let us know if you can make it. https://eruuf.org/calendar/calendar-
 view/event/15098-garden-volunteer-opportunity.html
DTSTART:20250304T140000Z
DTEND:20250304T210000Z
LOCATION:ERUUF Campus   (4907 Garrett Rd\, Durham\, NC 27707    )
SUMMARY:Garden Volunteer Opportunity
URL:https://eruuf.org/calendar/calendar-view/event/15098-garden-volunteer-o
 pportunity.html
END:VEVENT
END:VCALENDAR
