BEGIN:VCALENDAR
VERSION:2.0
PRODID:-//https://eruuf.org///NONSGML kigkonsult.se iCalcreator 2.10.15//
METHOD:PUBLISH
BEGIN:VEVENT
UID:20260421T212739UTC-1335JVJe0V@https://eruuf.org/
DTSTAMP:20260421T212739Z
DESCRIPTION:Join us for the spring garden clean-up including weeding\, mulc
 hing and pruning. We have jobs for weeders\, rakers\, haulers and for folk
  who like to saw. Prior gardening experience not required. Meet at the bre
 eze way at 9:30 am.\nWe welcome Chalice Circles and Covenant groups lookin
 g to complete service projects.\nFor more information and help coordinatin
 g\, reach out to Barbara Beaman. https://eruuf.org/calendar/calendar-view/
 event/15109-spring-garden-clean-up.html
DTSTART:20250315T133000Z
DTEND:20250315T153000Z
LOCATION:ERUUF Campus   (4907 Garrett Rd\, Durham\, NC 27707    )
SUMMARY:Spring Garden Clean Up
URL:https://eruuf.org/calendar/calendar-view/event/15109-spring-garden-clea
 n-up.html
END:VEVENT
END:VCALENDAR
