BEGIN:VCALENDAR
VERSION:2.0
PRODID:-//https://eruuf.org///NONSGML kigkonsult.se iCalcreator 2.10.15//
METHOD:PUBLISH
BEGIN:VEVENT
UID:20260424T020644UTC-8534AD12UU@https://eruuf.org/
DTSTAMP:20260424T020644Z
DESCRIPTION:ERUUFians and friends are invited to join our fabulous Garden T
 eam in their stewardship of our natural landscape with a special focus on 
 care taking our pollinator garden and de-vining trees. https://eruuf.org/c
 alendar/calendar-view/event/15111-garden-stewardship-an-earth-climate-just
 ice-month-event.html
DTSTART:20250412T133000Z
DTEND:20250412T153000Z
LOCATION:ERUUF Campus   (4907 Garrett Rd\, Durham\, NC 27707    )
SUMMARY:Garden Stewardship: An Earth & Climate Justice Month Event
URL:https://eruuf.org/calendar/calendar-view/event/15111-garden-stewardship
 -an-earth-climate-justice-month-event.html
END:VEVENT
END:VCALENDAR
