BEGIN:VCALENDAR
VERSION:2.0
PRODID:-//https://eruuf.org///NONSGML kigkonsult.se iCalcreator 2.10.15//
METHOD:PUBLISH
BEGIN:VEVENT
UID:20260424T130055UTC-9913Wjj4WE@https://eruuf.org/
DTSTAMP:20260424T130055Z
DESCRIPTION:ERUUF THANKSGIVING MEAL \nTHURSDAY\, NOVEMBER 27 | 1PM\n\nWant 
 to help make ERUUF's Thanksgiving happen this again this year? It was amaz
 ing last year\, right? Want to come back\, or join for the first time? Do 
 you love turkey?\n\nIf you said 'yes' to any of those questions\, then con
 sider volunteering to help with ERUUF's 2025 Thanksgiving Meal! That's rig
 ht. It's happening this year. ERUUF's Thanksgiving is will be held on Thur
 s.\, Nov. 27 at 1pm in the Fellowship Hall.\n \nRSVP HERE! https://eruuf.o
 rg/calendar/calendar-view/event/15140-thanksgiving-at-eruuf.html
DTSTART:20251127T180000Z
DTEND:20251127T220000Z
LOCATION:ERUUF Fellowship Hall (4907 Garrett Road)
SUMMARY:Thanksgiving at ERUUF
URL:https://eruuf.org/calendar/calendar-view/event/15140-thanksgiving-at-er
 uuf.html
END:VEVENT
END:VCALENDAR
