BEGIN:VCALENDAR
VERSION:2.0
PRODID:-//https://eruuf.org///NONSGML kigkonsult.se iCalcreator 2.10.15//
METHOD:PUBLISH
BEGIN:VEVENT
UID:20260423T101805UTC-5650xGv2wU@https://eruuf.org/
DTSTAMP:20260423T101805Z
DESCRIPTION:It's 2025 and we need some Holiday Comfort & Cookies!\nJoin our
  community on Christmas Eve\, between the Christmas Pageant and the Christ
 mas Eve Candlelight Service\, for a soup dinner\, a sweet dessert\, and go
 od fellowship.\nMore information to come!  https://eruuf.org/calendar/cale
 ndar-view/event/15142-christmas-soup-dinner.html
DTSTART:20251224T230000Z
DTEND:20251225T000000Z
LOCATION:ERUUF Fellowship Hall (4907 Garrett Road)
SUMMARY:Holiday Comfort & Cookies
URL:https://eruuf.org/calendar/calendar-view/event/15142-christmas-soup-din
 ner.html
END:VEVENT
END:VCALENDAR
