BEGIN:VCALENDAR
VERSION:2.0
PRODID:-//https://eruuf.org///NONSGML kigkonsult.se iCalcreator 2.10.15//
METHOD:PUBLISH
BEGIN:VEVENT
UID:20260424T012502UTC-33704MhP6C@https://eruuf.org/
DTSTAMP:20260424T012502Z
DESCRIPTION:'We help ERUUF be heard clearly!'Calling all members of the ERU
 UF Sound Team! This is a great opportunity to refresh your knowledge of th
 e sound equipment\, brush up on best practices\, and strengthen our shared
  skills in creating excellent audio experiences.We’ll focus on optimizing 
 sound for Sunday services\, with additional training on setups for special
  events\, concerts\, and other unique occasions. Whether you’re a seasoned
  tech or newer to the team\, your participation is valuable—we look forwar
 d to seeing you there!\nNew Members Welcome!\nFor more information\, conta
 ct ERUUF Music Director\, Wendy Looker. https://eruuf.org/calendar/calenda
 r-view/event/15160-sound-team-workday.html
DTSTART:20250510T160000Z
DTEND:20250510T200000Z
LOCATION:Sanctuary - ERUUF   (4907 Garrett Road\, Durham\, NC 27707  )
SUMMARY:Sound Team Training
URL:https://eruuf.org/calendar/calendar-view/event/15160-sound-team-workday
 .html
END:VEVENT
END:VCALENDAR
