BEGIN:VCALENDAR
VERSION:2.0
PRODID:-//https://eruuf.org///NONSGML kigkonsult.se iCalcreator 2.10.15//
METHOD:PUBLISH
BEGIN:VEVENT
UID:20260425T162855UTC-9068r4uM3I@https://eruuf.org/
DTSTAMP:20260425T162855Z
DESCRIPTION:The Clickers community meeting to work on assembly and distribu
 tion of items\, teaching knitting\, crocheting skills\, community interact
 ion.\nFor more information\, reach out to the Clickers group.\nTo stay up 
 to date with all things ERUUF\, subscribe to our weekly E-News. https://er
 uuf.org/calendar/calendar-view/event/15167-clicking-for-a-cause.html
DTSTART:20251213T150000Z
DTEND:20251213T170000Z
LOCATION:CARE Building\, Room 4/5 (4907 Garrett Road)
SUMMARY:Clicking for a Cause
URL:https://eruuf.org/calendar/calendar-view/event/15167-clicking-for-a-cau
 se.html
END:VEVENT
END:VCALENDAR
