BEGIN:VCALENDAR
VERSION:2.0
PRODID:-//https://eruuf.org///NONSGML kigkonsult.se iCalcreator 2.10.15//
METHOD:PUBLISH
BEGIN:VEVENT
UID:20260423T224333UTC-1772UUZGlM@https://eruuf.org/
DTSTAMP:20260423T224333Z
DESCRIPTION:\n \n \n \n \n \n \nWe are a community of non-theists within th
 e Unitarian Universalist tradition. Together\, we explore the human experi
 ence and support each other in personal growth and in working toward the g
 reater good. \nWe will discuss Sam Harris's short (50 pages) yet thought-p
 rovoking essay on Lying.\nQuestions to consider:\nOn a scale of 1 to 10\, 
 where 1 is “lying is generally OK” and 10 is “lying is never OK” where wou
 ld you place yourself and why?\nDo you have a story like the one that Harr
 is shares about the friend who asked if he was overweight—a time where lyi
 ng would have been the easy way out but where telling the truth obviously 
 benefitted the friend?\nFollowers of the ten commandments can say that the
 y tell the truth because one of the commandments tells them not to lie. Wh
 y do you tell the truth?\nTo register for the Zoom link\, please click her
 e.\nFor more information\, please reach out to the Nontheist Group.  https
 ://eruuf.org/calendar/calendar-view/event/15228-nontheist-group-virtual-me
 eting.html
DTSTART:20250916T230000Z
DTEND:20250917T003000Z
LOCATION:Online  (Online meetings are organized by the group leader. See th
 e meeting event details for information on how to join.)
SUMMARY:Nontheist Group (Virtual Meeting)
URL:https://eruuf.org/calendar/calendar-view/event/15228-nontheist-group-vi
 rtual-meeting.html
END:VEVENT
END:VCALENDAR
