BEGIN:VCALENDAR
VERSION:2.0
PRODID:-//https://eruuf.org///NONSGML kigkonsult.se iCalcreator 2.10.15//
METHOD:PUBLISH
BEGIN:VEVENT
UID:20260424T164058UTC-9773om3zG4@https://eruuf.org/
DTSTAMP:20260424T164058Z
DESCRIPTION:Remote meeting of the Nontheist Group. All are welcome to join!
 \n When considering the topic 'What Gives Meaning to Your Life?'\, you may
  find the following questions helpful:\n\nCan you share thoughts about wha
 t has been valuable to you in developing a sense that your life has meanin
 g (if\, indeed\, you feel that)? Perhaps helping other people\, engaging w
 ith family\, friends\, and others\, enjoying the natural world\, work\, tr
 avel\, sports\, music\, art\, particular writers and books\, involving you
 rself in political action and working toward justice\, the feeling of plea
 sure when you engage in creative activities\, or use well-honed skills\, o
 r learn something new? What else?\nIs your life inherently meaningful? Or 
 have you worked to create what meaning there is for you? What has that bee
 n like?\nOver the decades\, have your ideas about what life is all about c
 hanged? Do you remember any especially vivid moments when you came to a ne
 w realization\, a new understanding about what\, if anything\, you were me
 ant to be doing?\nHow has being a nontheist (if you are) affected your sea
 rch for meaning (if\, indeed\, you have been searching)?\n\nYou may also w
 ant to take a look at an article that discusses a Pew Research study on 'W
 hat Makes Life Meaningful' across various societies and cultures.\nRegiste
 r for Zoom Link https://eruuf.org/calendar/calendar-view/event/15229-nonth
 eist-group-virtual-meeting.html
DTSTART:20251021T230000Z
DTEND:20251022T003000Z
LOCATION:Online  (Online meetings are organized by the group leader. See th
 e meeting event details for information on how to join.)
SUMMARY:Nontheist Group (Virtual Meeting)
URL:https://eruuf.org/calendar/calendar-view/event/15229-nontheist-group-vi
 rtual-meeting.html
END:VEVENT
END:VCALENDAR
