BEGIN:VCALENDAR
VERSION:2.0
PRODID:-//https://eruuf.org///NONSGML kigkonsult.se iCalcreator 2.10.15//
METHOD:PUBLISH
BEGIN:VEVENT
UID:20260425T043539UTC-7137FTanFp@https://eruuf.org/
DTSTAMP:20260425T043539Z
DESCRIPTION:Remote meeting of the Nontheist Group. All are welcome to join!
 \nEric Thomas will report on the Freedom From Religion Foundation's annual
  convention held at Myrtle Beach last month. There were a number of great 
 talks covering topics such as Christian Nationalism's assault on reproduct
 ive rights and strategies for resistance. Come hear a re-cap of this conve
 ntion. Click HERE if you would like to see videos of some of the talks.\nC
 lick Here to Register https://eruuf.org/calendar/calendar-view/event/15230
 -nontheist-group-virtual-meeting.html
DTSTART:20251119T000000Z
DTEND:20251119T013000Z
LOCATION:Online  (Online meetings are organized by the group leader. See th
 e meeting event details for information on how to join.)
SUMMARY:Nontheist Group (Virtual Meeting)
URL:https://eruuf.org/calendar/calendar-view/event/15230-nontheist-group-vi
 rtual-meeting.html
END:VEVENT
END:VCALENDAR
