BEGIN:VCALENDAR
VERSION:2.0
PRODID:-//https://eruuf.org///NONSGML kigkonsult.se iCalcreator 2.10.15//
METHOD:PUBLISH
BEGIN:VEVENT
UID:20260424T125333UTC-5377wuHgkL@https://eruuf.org/
DTSTAMP:20260424T125333Z
DESCRIPTION:Remote meeting of the Nontheist Group. All are welcome to join!
 \nReach out to the Nontheist Group for more information and to recieve the
  Zoom link.  https://eruuf.org/calendar/calendar-view/event/15231-nontheis
 t-group-virtual-meeting.html
DTSTART:20251217T000000Z
DTEND:20251217T013000Z
LOCATION:Online  (Online meetings are organized by the group leader. See th
 e meeting event details for information on how to join.)
SUMMARY:Nontheist Group (Virtual Meeting)
URL:https://eruuf.org/calendar/calendar-view/event/15231-nontheist-group-vi
 rtual-meeting.html
END:VEVENT
END:VCALENDAR
