BEGIN:VCALENDAR
VERSION:2.0
PRODID:-//https://eruuf.org///NONSGML kigkonsult.se iCalcreator 2.10.15//
METHOD:PUBLISH
BEGIN:VEVENT
UID:20260423T182226UTC-4298oO7IRv@https://eruuf.org/
DTSTAMP:20260423T182226Z
DESCRIPTION:We are a community of non-theists within the Unitarian Universa
 list tradition. Together\, we explore the human experience and support eac
 h other in personal growth and in working toward the greater good. \nJanua
 ry 11 Topic: \nConsciousness\, and how we should relate to non-human minds
  that might possess it\nIn one way or another\, humans have had to deal wi
 th non-human minds for our entire existence. It is only relatively recentl
 y that we’ve come to realize and appreciate that other creatures even have
  minds. Now we’re being faced with the prospect of possibly having to deal
  with artificial minds. How do we\, or should we deal with these various k
 inds of minds? What do we owe them? To what extent do we owe them moral co
 nsideration?\nPlease click the links below to explore more before the conv
 ersation.\nGoogle Search (AI Response)\nThinking LLMs (Large Language Mode
 ls)\nSabine Hossenfelder discusses AI\nSign language in apes\nNon-human mi
 nds\nDecoding whale speech\n For more information\, please reach out to th
 e Nontheist Group.  https://eruuf.org/calendar/calendar-view/event/15241-n
 ontheist-group.html
DTSTART:20260111T180000Z
DTEND:20260111T193000Z
LOCATION:ERUUF Commons Room (4907 Garrett Road)
SUMMARY:Nontheist Group
URL:https://eruuf.org/calendar/calendar-view/event/15241-nontheist-group.ht
 ml
END:VEVENT
END:VCALENDAR
